BEGIN:VCALENDAR
VERSION:2.0
PRODID:icalendar-ruby
CALSCALE:GREGORIAN
BEGIN:VEVENT
DTSTAMP:20260422T145553Z
UID:8088ddae-3df1-46e4-b606-1d600d3bc9c7
DTSTART;VALUE=DATE:20260503
DESCRIPTION:Property ID# 605737\, Locatoin: On-site 1.00pm\, Time: 1:00PM
SUMMARY:Auction for 20 Inlet Views
END:VEVENT
END:VCALENDAR
