BEGIN:VCALENDAR
VERSION:2.0
PRODID:icalendar-ruby
CALSCALE:GREGORIAN
BEGIN:VEVENT
DTSTAMP:20260425T144159Z
UID:6d7a4cbe-139c-4c4b-8424-84cf4e4a2b49
DTSTART;VALUE=DATE:20241206
DESCRIPTION:Property ID# 583263\, Time: 3:30PM
SUMMARY:Auction for 
END:VEVENT
END:VCALENDAR
