BEGIN:VCALENDAR
VERSION:2.0
PRODID:icalendar-ruby
CALSCALE:GREGORIAN
BEGIN:VEVENT
DTSTAMP:20260424T081802Z
UID:da12453b-c2f1-404f-a6a9-37f7dd2d8c9c
DTSTART;VALUE=DATE:20240117
DESCRIPTION:Property ID# 566707\, Locatoin: In rooms (Unless sold prior) \,
  Time: 12:00AM
SUMMARY:Auction for 
END:VEVENT
END:VCALENDAR
