BEGIN:VCALENDAR
VERSION:2.0
PRODID:icalendar-ruby
CALSCALE:GREGORIAN
BEGIN:VEVENT
DTSTAMP:20210119T154438Z
UID:850d4b29-efbb-4a54-a04a-1de68cca4efd
DTSTART;VALUE=DATE:20210121
DESCRIPTION:Property ID# 499056\, Locatoin: 72 Ruapehu Street\, Taupo (Soth
 ebys office)\, Time: 12:00PM
SUMMARY:Auction for 87 Victory Drive
END:VEVENT
END:VCALENDAR
