BEGIN:VCALENDAR
VERSION:2.0
PRODID:icalendar-ruby
CALSCALE:GREGORIAN
BEGIN:VEVENT
DTSTAMP:20210119T154423Z
UID:788018d2-2939-4008-8b67-932716da7ed5
DTSTART;VALUE=DATE:20210211
DESCRIPTION:Property ID# 498610\, Time: 4:00PM
SUMMARY:Auction for 145 Omori Road
END:VEVENT
END:VCALENDAR
