BEGIN:VCALENDAR
VERSION:2.0
PRODID:icalendar-ruby
CALSCALE:GREGORIAN
BEGIN:VEVENT
DTSTAMP:20210119T154451Z
UID:1eaea9de-eff3-4f35-8179-01b69a1999d0
DTSTART;VALUE=DATE:20210210
DESCRIPTION:Property ID# 498609\, Time: 4:00PM
SUMMARY:Auction for 37 Taupahi Road
END:VEVENT
END:VCALENDAR
