BEGIN:VCALENDAR
VERSION:2.0
PRODID:icalendar-ruby
CALSCALE:GREGORIAN
BEGIN:VEVENT
DTSTAMP:20210119T154456Z
UID:67a66fb0-de1d-4e05-864e-b554ed955a4d
DTSTART;VALUE=DATE:20210210
DESCRIPTION:Property ID# 498608\, Time: 4:00PM
SUMMARY:Auction for 7  Asher Ave
END:VEVENT
END:VCALENDAR
