BEGIN:VCALENDAR
VERSION:2.0
PRODID:icalendar-ruby
CALSCALE:GREGORIAN
BEGIN:VEVENT
DTSTAMP:20210119T155245Z
UID:bfe95896-b5a6-4087-b8fa-4c120c6f8dae
DTSTART;VALUE=DATE:20201122
DESCRIPTION:Property ID# 494252\, Time: 3:00PM
SUMMARY:Auction for 
END:VEVENT
END:VCALENDAR
