BEGIN:VCALENDAR
VERSION:2.0
PRODID:icalendar-ruby
CALSCALE:GREGORIAN
BEGIN:VEVENT
DTSTAMP:20210119T155230Z
UID:d7d38368-d1eb-4810-9e32-67f34e605b17
DTSTART;VALUE=DATE:20201107
DESCRIPTION:Property ID# 492183\, Time: 12:00PM
SUMMARY:Auction for 
END:VEVENT
END:VCALENDAR
