BEGIN:VCALENDAR
VERSION:2.0
PRODID:icalendar-ruby
CALSCALE:GREGORIAN
BEGIN:VEVENT
DTSTAMP:20210119T155248Z
UID:5b8d3c21-04b3-471e-aec5-42097f36e550
DTSTART;VALUE=DATE:20201101
DESCRIPTION:Property ID# 491555\, Time: 12:00PM
SUMMARY:Auction for 
END:VEVENT
END:VCALENDAR
