BEGIN:VCALENDAR
VERSION:2.0
PRODID:icalendar-ruby
CALSCALE:GREGORIAN
BEGIN:VEVENT
DTSTAMP:20210119T155249Z
UID:b7d50aaf-80fe-4727-b1e1-a533aa1a2f3d
DTSTART;VALUE=DATE:20201018
DESCRIPTION:Property ID# 491504\, Time: 12:00PM
SUMMARY:Auction for 
END:VEVENT
END:VCALENDAR
