BEGIN:VCALENDAR
VERSION:2.0
PRODID:icalendar-ruby
CALSCALE:GREGORIAN
BEGIN:VEVENT
DTSTAMP:20210119T155252Z
UID:0dd52a9d-c99c-4ead-a53f-519f86d19ef9
DTSTART;VALUE=DATE:20201025
DESCRIPTION:Property ID# 490976\, Time: 2:00PM
SUMMARY:Auction for 
END:VEVENT
END:VCALENDAR
