BEGIN:VCALENDAR
VERSION:2.0
PRODID:icalendar-ruby
CALSCALE:GREGORIAN
BEGIN:VEVENT
DTSTAMP:20210119T155238Z
UID:99f569b3-8e11-4dfb-8a00-fa3307d43ed2
DTSTART;VALUE=DATE:20200325
DESCRIPTION:Property ID# 474671\, Time: 4:00PM
SUMMARY:Auction for 
END:VEVENT
END:VCALENDAR
