BEGIN:VCALENDAR
VERSION:2.0
PRODID:icalendar-ruby
CALSCALE:GREGORIAN
BEGIN:VEVENT
DTSTAMP:20210119T155235Z
UID:6f58e78f-0587-4441-8a20-621bc1c05ba5
DTSTART;VALUE=DATE:20200225
DESCRIPTION:Property ID# 470644\, Locatoin: Sothebys International Realty  
 72 Ruapehu Street Taupo ( If Not Sold Prior) \, Time: 12:00PM
SUMMARY:Auction for 
END:VEVENT
END:VCALENDAR
