BEGIN:VCALENDAR
VERSION:2.0
PRODID:icalendar-ruby
CALSCALE:GREGORIAN
BEGIN:VEVENT
DTSTAMP:20210119T155236Z
UID:f92b319f-a00b-4792-ad74-f7c6cd9a9bc2
DTSTART;VALUE=DATE:20191002
DESCRIPTION:Property ID# 462642\, Time: 12:00PM
SUMMARY:Auction for 
END:VEVENT
END:VCALENDAR
